BEGIN:VCALENDAR
VERSION:2.0
PRODID:-//Eisenbahnfreunde Lippe e. V. - ECPv6.8.3//NONSGML v1.0//EN
CALSCALE:GREGORIAN
METHOD:PUBLISH
X-WR-CALNAME:Eisenbahnfreunde Lippe e. V.
X-ORIGINAL-URL:https://www.eisenbahnfreunde-lippe.de
X-WR-CALDESC:Veranstaltungen für Eisenbahnfreunde Lippe e. V.
REFRESH-INTERVAL;VALUE=DURATION:PT1H
X-Robots-Tag:noindex
X-PUBLISHED-TTL:PT1H
BEGIN:VTIMEZONE
TZID:Europe/Berlin
BEGIN:DAYLIGHT
TZOFFSETFROM:+0100
TZOFFSETTO:+0200
TZNAME:CEST
DTSTART:20230326T010000
END:DAYLIGHT
BEGIN:STANDARD
TZOFFSETFROM:+0200
TZOFFSETTO:+0100
TZNAME:CET
DTSTART:20231029T010000
END:STANDARD
END:VTIMEZONE
BEGIN:VEVENT
DTSTART;TZID=Europe/Berlin:20231001T140000
DTEND;TZID=Europe/Berlin:20231001T150000
DTSTAMP:20260420T103315
CREATED:20230902T191151Z
LAST-MODIFIED:20230902T192216Z
UID:2123-1696168800-1696172400@www.eisenbahnfreunde-lippe.de
SUMMARY:Streckenjubiläum 120 Jahre Lage – Oerlinghausen und Bahnhofsjubiläum Ehlenbruch
DESCRIPTION:120 Jahre Bahnhof Ehlenbruch\nEisenbahnfreunde Lippe laden zu kostenloser Führung ein\nDas ehemalige Ehlenbrucher Bahnhofsgebäude in Lage-Kachtenhausen feiert am 1. Oktober seinen 120. Geburtstag. Es entstand 1903 zusammen mit dem Bau eines Teilstücks der Bahnstrecke von Lage nach Bielefeld. Nach wechselvoller Geschichte und anspruchsvoller Grundsanierung dient es heute den Eisenbahnfreunden Lippe e. V. als Vereinsheim. Die Eisenbahnfreunde möchten das anstehende Jubiläum gebührend feiern und laden zu einer kostenlosen öffentlichen Führung ein. \nAus Anlass des Streckenjubiläums und des Bahnhofs-Geburtstags laden die Eisenbahnfreunde\nnach Lage-Kachtenhausen ein. Zwei Stadtführer der Stadt Lage werden Besucher die\ninteressante und wechselvolle Geschichte des Gebäudes näherbringen. Vorgesehen ist auch\nBesichtigung des Gebäudes von innen\, denn auch hier zeigen sich die Ergebnisse von\ntausenden von Arbeitsstunden\, die die Vereinsmitglieder in die Sanierung des ehemaligen\nBahngebäudes aus der Kaiserzeit investiert haben. \nDer von den Eisenbahnfreunden Lippe mustergültig grundsanierte ehemalige Bahnhof Ehlenbruch. DieLiebe zum historisch korrekten Detail zeichnet die hervorragende handwerkliche Arbeit aus. (Foto:Konrad Soppa)\nDie Führung am Sonntag\, dem 1. Oktober 2023 beginnt um 14.00 Uhr direkt vor dem Gebäude\n(Navi: Zum Twilen 7) und wird etwa eine Stunde dauern. Klaus Schuler und Konrad Soppa\,\nbeide Mitglieder der Eisenbahnfreunde Lippe\, werden als zertifizierte Stadtführer der Stadt\nLage viel Interessantes aus der Geschichte und der Gegenwart des Gebäudes und seines\nUmfeldes berichten. \nKonrad Soppa\, 01.09.2023 \nHinweis\nIm Rahmen dieser Veranstaltung besteht die Möglichkeit zum Erwerb unseres brandneuen Kalenders „Eisenbahn in Lippe 2024“.
URL:https://www.eisenbahnfreunde-lippe.de/event/eisenbahnfreunde-lippe_fuehrung-120-jahre-bahnhof-ehlenbruch/
LOCATION:Vereinsheim Bahnhof Ehlenbruch\, Zum Twilen 7\, Lage\, 32791\, Deutschland
CATEGORIES:Öffentlicher Vortrag
END:VEVENT
BEGIN:VEVENT
DTSTART;TZID=Europe/Berlin:20231022T110000
DTEND;TZID=Europe/Berlin:20231022T160000
DTSTAMP:20260420T103315
CREATED:20230325T094715Z
LAST-MODIFIED:20231027T081247Z
UID:2051-1697972400-1697990400@www.eisenbahnfreunde-lippe.de
SUMMARY:86. Modellbahnbasar
DESCRIPTION:Unser Modellbahnbasar am 22.10.2023 ist einen Besuch wert.\nAm 22.10.2023 veranstalten wir unseren nächsten Modellbahnbasar im Schulzentrum am Werreanger in Lage. \n  \nAngebot\nWie in den vergangenen Jahren werden auf großer Fläche zahlreiche Artikel aus dem Bereich Modellbahn angeboten. Von Lokomotiven\, Wagen\, Häusern und anderen Zubehörteilen ist aus nahezu allen Spurweiten für jeden etwas dabei. Kleinere Anlagen mit Fahrbetrieb runden das Programm ab. \nWie auch im vergangenen Jahr werden Sie auch dieses Mal die Möglichkeit haben\, unseren brandneuen Kalender „Eisenbahn in Lippe 2024“ zu erwerben. \n  \nVeranstaltungsort\nDas Schulzentrum Werreanger als Veranstaltungsort bietet uns neben sehr viel Platz auch eine gute Verkehrsanbindung mit vielen Parkplätzen und einen barrierefreien Zugang. Es befindet sich am Rande des Stadtkerns in der Breiten Straße 3 und ist aus allen Richtungen leicht zu erreichen. Nach Lage kommen Sie schnell und bequem: \n\nmit dem Auto über die Bundesstraßen 66 und 239. Nächste Autobahnabfahrten sind Bielefeld Zentrum / Bielefeld Ost und Herford / Bad Salzuflen jeweils an der A2\nmit dem Zug stündlich mit der RB 72 von Herford und Paderborn sowie mindestens stündlich von Bielefeld aus mit den Linien RB 73 und RE 82. Vom Bahnhof Lage beträgt der Fußweg zum Schulzentrum etwa 10 Minuten.\n\n  \nÖffnungszeiten\nGeöffnet haben wir von 11 bis 16 Uhr. Kommen Sie vorbei und lernen Sie unseren Basar kennen und schätzen\, wir freuen uns auf Sie! \n  \nEintritt\n\nErwachsene: 3\,00€\nKinder und Jugendliche haben kostenfreien Eintritt\n\n  \nWeitere Informationen\nDie Veranstaltung finden Sie auch wenige Wochen vorher bei Facebook. \nSollten Sie noch Fragen zu unserem Modellbahnbasar haben\, wenden Sie sich bitte an unseren Basarwart Wolfgang Hollerung (Telefon: 05232/6989529; Mobil: 0172/6967079) oder senden Sie uns eine E-Mail an info@eisenbahnfreunde-lippe.de. \n  \nIhre Eisenbahnfreunde Lippe
URL:https://www.eisenbahnfreunde-lippe.de/event/efl-modellbahnbasar-86/
LOCATION:Schulzentrum am Werreanger\, Breite Straße 3\, Lage\, Nordrhein-Westfalen\, 32791\, Deutschland
CATEGORIES:Modellbahnbasar
END:VEVENT
END:VCALENDAR